BEGIN:VCALENDAR
VERSION:2.0
PRODID:-//wp-events-plugin.com//7.2.3.1//EN
TZID:Europe/Berlin
X-WR-TIMEZONE:Europe/Berlin
BEGIN:VEVENT
UID:1350@psv-holzminden.de
DTSTART;TZID=Europe/Berlin:20230330T170000
DTEND;TZID=Europe/Berlin:20230330T183000
DTSTAMP:20230226T180511Z
URL:https://www.psv-holzminden.de/psv-termine/psv-lauftreff-11/
SUMMARY:PSV Lauftreff
DESCRIPTION:Liebigstadion Holzminden
ATTACH;FMTTYPE=image/jpeg:https://www.psv-holzminden.de/wp-content/uploads
 /2019/07/Bahntraining-07-e1641135623633.jpg
CATEGORIES:Lauftreff
LOCATION:Liebigstadion\, Liebigstr. 112\, Holzminden\, Niedersachsen\, 3760
 3\, Landkreis Holzminden\, Deutschland
GEO:51.835884;9.469566
X-APPLE-STRUCTURED-LOCATION;VALUE=URI;X-ADDRESS=Liebigstr. 112\, Holzminden
 \, Niedersachsen\, 37603\, Landkreis Holzminden\, Deutschland;X-APPLE-RADI
 US=100;X-TITLE=Liebigstadion:geo:51.835884,9.469566
END:VEVENT
BEGIN:VTIMEZONE
TZID:Europe/Berlin
X-LIC-LOCATION:Europe/Berlin
BEGIN:DAYLIGHT
DTSTART:20230326T030000
TZOFFSETFROM:+0100
TZOFFSETTO:+0200
TZNAME:CEST
END:DAYLIGHT
END:VTIMEZONE
END:VCALENDAR